BEGIN:VCALENDAR
PRODID:PlannerXE123
VERSION:2.0
CALSCALE:GREGORIAN
METHOD:PUBLISH
BEGIN:VEVENT
DTSTART:20260424T050000Z
DTEND:20260424T063000Z
DTSTAMP:20260421T215402Z
UID:(www.bjccc.net_61304)
CREATED:20260421T215402Z
DESCRIPTION:- 작성시 제목 왼쪽에 있는 &quot;모임 장소 구분&quot;를 반드시 선택하여 주시기 바랍니다.\n\n<a href="http://www.bjccc.net/index.php?document_srl=61304&mid=schedule_01&document_srl=61304">원본일정</a>
LOCATION:
SEQUENCE:1
STATUS:CONFIRMED
SUMMARY:전례위원회 회의
TRANSP:TRANSPARENT
END:VEVENT
END:VCALENDAR
